BEGIN:VCALENDAR
VERSION:2.0
PRODID:researchseminars.org
CALSCALE:GREGORIAN
X-WR-CALNAME:researchseminars.org
BEGIN:VEVENT
SUMMARY:Jeffrey Lagarias (University of Michigan)
DTSTART:20210524T210000Z
DTEND:20210524T212500Z
DTSTAMP:20260423T011219Z
UID:CANT2020/92
DESCRIPTION:Title: <a href="https://researchseminars.org/talk/CANT2020/92/
 ">Partial factorizations of  a generalized product of binomial coefficient
 s</a>\nby Jeffrey Lagarias (University of Michigan) as part of Combinatori
 al and additive number theory (CANT 2021)\n\nAbstract: TBA\n
LOCATION:https://researchseminars.org/talk/CANT2020/92/
END:VEVENT
END:VCALENDAR
