BEGIN:VCALENDAR
VERSION:2.0
PRODID:researchseminars.org
CALSCALE:GREGORIAN
X-WR-CALNAME:researchseminars.org
BEGIN:VEVENT
SUMMARY:Oleksiy Klurman (University of Bristol\, UK)
DTSTART:20210524T180000Z
DTEND:20210524T182500Z
DTSTAMP:20260423T011224Z
UID:CANT2020/87
DESCRIPTION:Title: <a href="https://researchseminars.org/talk/CANT2020/87/
 ">On the ``variants" of the Erdos discrepancy problem</a>\nby Oleksiy Klur
 man (University of Bristol\, UK) as part of Combinatorial and additive num
 ber theory (CANT 2021)\n\nAbstract: TBA\n
LOCATION:https://researchseminars.org/talk/CANT2020/87/
END:VEVENT
END:VCALENDAR
