BEGIN:VCALENDAR
VERSION:2.0
PRODID:researchseminars.org
CALSCALE:GREGORIAN
X-WR-CALNAME:researchseminars.org
BEGIN:VEVENT
SUMMARY:Mikhail Gabdullin (Steklov Mathematical Institute\, Russia)
DTSTART:20210524T173000Z
DTEND:20210524T175500Z
DTSTAMP:20260423T011158Z
UID:CANT2020/85
DESCRIPTION:Title: <a href="https://researchseminars.org/talk/CANT2020/85/
 ">Sets whose differences avoid squares modulo m</a>\nby Mikhail Gabdullin 
 (Steklov Mathematical Institute\, Russia) as part of Combinatorial and add
 itive number theory (CANT 2021)\n\nAbstract: TBA\n
LOCATION:https://researchseminars.org/talk/CANT2020/85/
END:VEVENT
END:VCALENDAR
