BEGIN:VCALENDAR
VERSION:2.0
PRODID:researchseminars.org
CALSCALE:GREGORIAN
X-WR-CALNAME:researchseminars.org
BEGIN:VEVENT
SUMMARY:Sean Prendiville (University of Lancaster\, UK)
DTSTART:20210524T120000Z
DTEND:20210524T122500Z
DTSTAMP:20260423T011223Z
UID:CANT2020/74
DESCRIPTION:Title: <a href="https://researchseminars.org/talk/CANT2020/74/
 ">Extremal Sidon sets are Fourier uniform\, with arithmetic applications</
 a>\nby Sean Prendiville (University of Lancaster\, UK) as part of Combinat
 orial and additive number theory (CANT 2021)\n\nAbstract: TBA\n
LOCATION:https://researchseminars.org/talk/CANT2020/74/
END:VEVENT
END:VCALENDAR
