BEGIN:VCALENDAR
VERSION:2.0
PRODID:researchseminars.org
CALSCALE:GREGORIAN
X-WR-CALNAME:researchseminars.org
BEGIN:VEVENT
SUMMARY:Michael Bennett (University of British Columbia)
DTSTART:20200601T190000Z
DTEND:20200601T192500Z
DTSTAMP:20260423T011240Z
UID:CANT2020/11
DESCRIPTION:Title: <a href="https://researchseminars.org/talk/CANT2020/11/
 ">Differences between perfect powers</a>\nby Michael Bennett (University o
 f British Columbia) as part of Combinatorial and additive number theory (C
 ANT 2021)\n\n\nAbstract\nIn this talk\, I will survey a variety of arithme
 tic problems related to the sequence \nof differences between perfect powe
 rs\, highlighting what is known\, \nwhat is expected to be true\, and what
  is (possibly) within range of current technology. \nI shall discuss some 
 recent  joint work with Samir Siksek on a number of related \nclassical po
 lynomial-exponential equations.\n
LOCATION:https://researchseminars.org/talk/CANT2020/11/
END:VEVENT
END:VCALENDAR
