BEGIN:VCALENDAR
VERSION:2.0
PRODID:researchseminars.org
CALSCALE:GREGORIAN
X-WR-CALNAME:researchseminars.org
BEGIN:VEVENT
SUMMARY:Ludovic Patey (CNRS)
DTSTART:20230331T140000Z
DTEND:20230331T150000Z
DTSTAMP:20260423T035730Z
UID:CALS/9
DESCRIPTION:Title: <a href="https://researchseminars.org/talk/CALS/9/">Can
 onical notions of forcing in Reverse Mathematics</a>\nby Ludovic Patey (CN
 RS) as part of Cross Alps Logic Seminar\n\nAbstract: TBA\n
LOCATION:https://researchseminars.org/talk/CALS/9/
END:VEVENT
END:VCALENDAR
