BEGIN:VCALENDAR
VERSION:2.0
PRODID:researchseminars.org
CALSCALE:GREGORIAN
X-WR-CALNAME:researchseminars.org
BEGIN:VEVENT
SUMMARY:Dugald MacPherson (University of Leeds)
DTSTART:20230303T150000Z
DTEND:20230303T160000Z
DTSTAMP:20260423T021156Z
UID:CALS/7
DESCRIPTION:Title: <a href="https://researchseminars.org/talk/CALS/7/">Uni
 form families of definable sets in finite structures</a>\nby Dugald MacPhe
 rson (University of Leeds) as part of Cross Alps Logic Seminar\n\nAbstract
 : TBA\n
LOCATION:https://researchseminars.org/talk/CALS/7/
END:VEVENT
END:VCALENDAR
