BEGIN:VCALENDAR
VERSION:2.0
PRODID:researchseminars.org
CALSCALE:GREGORIAN
X-WR-CALNAME:researchseminars.org
BEGIN:VEVENT
SUMMARY:Francesco Parente (University of Turin)
DTSTART:20221202T150000Z
DTEND:20221202T160000Z
DTSTAMP:20260423T021153Z
UID:CALS/4
DESCRIPTION:Title: <a href="https://researchseminars.org/talk/CALS/4/">Goo
 d ultrafilters and universality properties of forcing</a>\nby Francesco Pa
 rente (University of Turin) as part of Cross Alps Logic Seminar\n\nAbstrac
 t: TBA\n
LOCATION:https://researchseminars.org/talk/CALS/4/
END:VEVENT
END:VCALENDAR
