BEGIN:VCALENDAR
VERSION:2.0
PRODID:researchseminars.org
CALSCALE:GREGORIAN
X-WR-CALNAME:researchseminars.org
BEGIN:VEVENT
SUMMARY:Charles Steinhorn (Vassar College)
DTSTART:20240119T150000Z
DTEND:20240119T160000Z
DTSTAMP:20260423T021129Z
UID:CALS/21
DESCRIPTION:Title: <a href="https://researchseminars.org/talk/CALS/21/">O-
 minimality as a framework for tame mathematical economics</a>\nby Charles 
 Steinhorn (Vassar College) as part of Cross Alps Logic Seminar\n\nAbstract
 : TBA\n
LOCATION:https://researchseminars.org/talk/CALS/21/
END:VEVENT
END:VCALENDAR
