BEGIN:VCALENDAR
VERSION:2.0
PRODID:researchseminars.org
CALSCALE:GREGORIAN
X-WR-CALNAME:researchseminars.org
BEGIN:VEVENT
SUMMARY:Jacopo Emmenegger (University of Genoa)
DTSTART:20221104T150000Z
DTEND:20221104T160000Z
DTSTAMP:20260423T052546Z
UID:CALS/2
DESCRIPTION:Title: <a href="https://researchseminars.org/talk/CALS/2/">Quo
 tients and equality\, (co)algebraically</a>\nby Jacopo Emmenegger (Univers
 ity of Genoa) as part of Cross Alps Logic Seminar\n\nAbstract: TBA\n
LOCATION:https://researchseminars.org/talk/CALS/2/
END:VEVENT
END:VCALENDAR
