BEGIN:VCALENDAR
VERSION:2.0
PRODID:researchseminars.org
CALSCALE:GREGORIAN
X-WR-CALNAME:researchseminars.org
BEGIN:VEVENT
SUMMARY:Zoltán Vidnyánszky (Eötvös Loránd University)
DTSTART:20231201T150000Z
DTEND:20231201T160000Z
DTSTAMP:20260423T052755Z
UID:CALS/16
DESCRIPTION:Title: <a href="https://researchseminars.org/talk/CALS/16/">Ho
 momorphisms in the choiceless world</a>\nby Zoltán Vidnyánszky (Eötvös
  Loránd University) as part of Cross Alps Logic Seminar\n\nAbstract: TBA\
 n
LOCATION:https://researchseminars.org/talk/CALS/16/
END:VEVENT
END:VCALENDAR
