BEGIN:VCALENDAR
VERSION:2.0
PRODID:researchseminars.org
CALSCALE:GREGORIAN
X-WR-CALNAME:researchseminars.org
BEGIN:VEVENT
SUMMARY:Alexander Kusnetsov (Russian Academy of Sciences)
DTSTART:20201023T170000Z
DTEND:20201023T183000Z
DTSTAMP:20260423T024654Z
UID:CAGS/1
DESCRIPTION:Title: <a href="https://researchseminars.org/talk/CAGS/1/">Rat
 ionality of Fano threefolds over non-closed fields</a>\nby Alexander Kusne
 tsov (Russian Academy of Sciences) as part of Columbia algebraic geometry 
 seminar\n\n\nAbstract\nIn the first part of the talk I will review\nwhat i
 s known about rationality of Fano threefolds over\nan algebraically closed
  field of zero characteristic.\n\nIn the second part I will switch to the 
 case of non-closed\nfields (still of characteristic zero) and discuss our 
 recent\nresults with Yuri Prokhorov in this direction.\n
LOCATION:https://researchseminars.org/talk/CAGS/1/
END:VEVENT
END:VCALENDAR
