BEGIN:VCALENDAR
VERSION:2.0
PRODID:researchseminars.org
CALSCALE:GREGORIAN
X-WR-CALNAME:researchseminars.org
BEGIN:VEVENT
SUMMARY:Linus Hamann (Princeton)
DTSTART:20211001T143000Z
DTEND:20211001T160000Z
DTSTAMP:20260423T022620Z
UID:CAFAS/25
DESCRIPTION:Title: <a href="https://researchseminars.org/talk/CAFAS/25/">C
 ompatibility of the Fargues-Scholze and Gan-Takeda Local Langlands</a>\nby
  Linus Hamann (Princeton) as part of Columbia Automorphic Forms and Arithm
 etic Seminar\n\nAbstract: TBA\n
LOCATION:https://researchseminars.org/talk/CAFAS/25/
END:VEVENT
END:VCALENDAR
