BEGIN:VCALENDAR
VERSION:2.0
PRODID:researchseminars.org
CALSCALE:GREGORIAN
X-WR-CALNAME:researchseminars.org
BEGIN:VEVENT
SUMMARY:Albert Law (Harvard)
DTSTART:20211103T170000Z
DTEND:20211103T180000Z
DTSTAMP:20260423T053046Z
UID:BrownHET/8
DESCRIPTION:Title: <a href="https://researchseminars.org/talk/BrownHET/8/"
 >Sphere Partition Functions and Quantum de Sitter entropy</a>\nby Albert L
 aw (Harvard) as part of Brown HET Seminar\n\nAbstract: TBA\n
LOCATION:https://researchseminars.org/talk/BrownHET/8/
END:VEVENT
END:VCALENDAR
