BEGIN:VCALENDAR
VERSION:2.0
PRODID:researchseminars.org
CALSCALE:GREGORIAN
X-WR-CALNAME:researchseminars.org
BEGIN:VEVENT
SUMMARY:Galina Perelman
DTSTART:20220129T150000Z
DTEND:20220129T160000Z
DTSTAMP:20260423T005806Z
UID:Bourbaki/21
DESCRIPTION:Title: <a href="https://researchseminars.org/talk/Bourbaki/21/
 ">Finite time blow up for the compressible fluids and for the energy super
 critical defocusing nonlinear Schrödinger equation \, after Frank Merle\,
  Pierre Raphaël\, Igor Rodnianski and Jérémie Szeftel</a>\nby Galina Pe
 relman as part of Séminaire Bourbaki (Samedi)\n\nAbstract: TBA\n
LOCATION:https://researchseminars.org/talk/Bourbaki/21/
END:VEVENT
END:VCALENDAR
