BEGIN:VCALENDAR
VERSION:2.0
PRODID:researchseminars.org
CALSCALE:GREGORIAN
X-WR-CALNAME:researchseminars.org
BEGIN:VEVENT
SUMMARY:Philip Hackney (University of Louisiana at Lafayette)
DTSTART:20240422T130000Z
DTEND:20240422T140000Z
DTSTAMP:20260422T135515Z
UID:BilTop/84
DESCRIPTION:Title: <a href="https://researchseminars.org/talk/BilTop/84/">
 Partial groups and symmetric simplicial sets</a>\nby Philip Hackney (Unive
 rsity of Louisiana at Lafayette) as part of Bilkent Topology Seminar\n\nLe
 cture held in SA 141.\n\nAbstract\nPartial groups are a generalization of 
 groups which allow for the possibility that some n-fold products of elemen
 ts may be undefined. They were introduced by Chermak to serve in the study
  of the p-local structure of a finite group. These partial groups may be v
 iewed as certain simplicial sets\, or better yet\, as certain symmetric si
 mplicial sets. I'll explain this viewpoint\, as well as some implications.
  I will also touch on the question about which partial groups are higher S
 egal spaces. This is joint work with Justin Lynd.\n
LOCATION:https://researchseminars.org/talk/BilTop/84/
END:VEVENT
END:VCALENDAR
