BEGIN:VCALENDAR
VERSION:2.0
PRODID:researchseminars.org
CALSCALE:GREGORIAN
X-WR-CALNAME:researchseminars.org
BEGIN:VEVENT
SUMMARY:Walker Stern (Bilkent University)
DTSTART:20240318T103000Z
DTEND:20240318T113000Z
DTSTAMP:20260422T135929Z
UID:BilTop/81
DESCRIPTION:Title: <a href="https://researchseminars.org/talk/BilTop/81/">
 HC III: $\\text{Cat}_\\infty$ and Grothendieck</a>\nby Walker Stern (Bilke
 nt University) as part of Bilkent Topology Seminar\n\nLecture held in SB-Z
 11.\n\nAbstract\nWe describe how one may define the (large) $\\infty$-cate
 gory of small\n$\\infty$-categories using simplicial sets and simplicially
  enriched categories. We then sketch the idea of the Grothendieck-Lurie co
 nstruction for quasi-categories\, and discuss applications.\n\nTalk III in
  the sequence of Higher Categories (HC).\n
LOCATION:https://researchseminars.org/talk/BilTop/81/
END:VEVENT
END:VCALENDAR
