BEGIN:VCALENDAR
VERSION:2.0
PRODID:researchseminars.org
CALSCALE:GREGORIAN
X-WR-CALNAME:researchseminars.org
BEGIN:VEVENT
SUMMARY:Redi Haderi (Bilkent University)
DTSTART:20231009T103000Z
DTEND:20231009T113000Z
DTSTAMP:20260422T135607Z
UID:BilTop/64
DESCRIPTION:Title: <a href="https://researchseminars.org/talk/BilTop/64/">
 Colimits of categories\, zig-zags and necklaces</a>\nby Redi Haderi (Bilke
 nt University) as part of Bilkent Topology Seminar\n\nLecture held in SB-Z
 11.\n\nAbstract\nColimits of simplicial categories are generally considere
 d hard to understand in explicit terms. Important simplicial categories\, 
 such as those freely generated by simplicial sets\, arise as such colimits
 . In fact\, the free simplicial category - coherent nerve adjunction has b
 een demonstrated by Lurie to be a Quillen equivalence.\nWe discuss how the
  problem of computing colimits of simplicial categories reduces to computi
 ng colimits of categories. Then\, we present a theorem which describes the
  latter in explicit terms (to the best of our knowledge\, not in the liter
 ature). As an application\, we provide a computational proof of the Neckla
 ce Theorem of Dugger and Spivak.\n
LOCATION:https://researchseminars.org/talk/BilTop/64/
END:VEVENT
END:VCALENDAR
