BEGIN:VCALENDAR
VERSION:2.0
PRODID:researchseminars.org
CALSCALE:GREGORIAN
X-WR-CALNAME:researchseminars.org
BEGIN:VEVENT
SUMMARY:Igor Sikora (Bilkent University)
DTSTART:20230424T103000Z
DTEND:20230424T113000Z
DTSTAMP:20260422T140108Z
UID:BilTop/56
DESCRIPTION:Title: <a href="https://researchseminars.org/talk/BilTop/56/">
 Segal spaces II</a>\nby Igor Sikora (Bilkent University) as part of Bilken
 t Topology Seminar\n\nLecture held in SB-Z11.\n\nAbstract\nIn this talk\, 
 we will continue introducing the third model of infinity categories: compl
 ete Segal spaces. The following notions will be covered: Segal spaces\, ho
 motopy category of Segal spaces\, completeness of Segal spaces and CSS mod
 el structure.\n
LOCATION:https://researchseminars.org/talk/BilTop/56/
END:VEVENT
END:VCALENDAR
