BEGIN:VCALENDAR
VERSION:2.0
PRODID:researchseminars.org
CALSCALE:GREGORIAN
X-WR-CALNAME:researchseminars.org
BEGIN:VEVENT
SUMMARY:Natalia Castellana (Universitat Autònoma de Barcelona)
DTSTART:20211213T103000Z
DTEND:20211213T113000Z
DTSTAMP:20260422T140108Z
UID:BilTop/35
DESCRIPTION:Title: <a href="https://researchseminars.org/talk/BilTop/35/">
 The normalizer decomposition for p-local compact groups</a>\nby Natalia Ca
 stellana (Universitat Autònoma de Barcelona) as part of Bilkent Topology 
 Seminar\n\nLecture held in SB-Z11.\n\nAbstract\n(with Eva Belmont\, Jelena
  Grbic\, Kathryn Lesh\, Michelle Strumila) In this project we study the no
 rmalizer decomposition of a p-local compact group in a general setting.\nW
 hen G is a compact Lie group\, using the information of the fusion system 
 of G on a maximal\ndiscrete p-toral subgroup\, we recover known decomposit
 ions in terms of p-centric p-stubborn p-toral\nsubgroups up to p-completio
 n. But this methods allow to also describe some exotic p-compact groups\ni
 n terms of a pushout.\n
LOCATION:https://researchseminars.org/talk/BilTop/35/
END:VEVENT
END:VCALENDAR
