BEGIN:VCALENDAR
VERSION:2.0
PRODID:researchseminars.org
CALSCALE:GREGORIAN
X-WR-CALNAME:researchseminars.org
BEGIN:VEVENT
SUMMARY:Ozgun Unlu (Bilkent University)
DTSTART:20210222T103000Z
DTEND:20210222T113000Z
DTSTAMP:20260422T175914Z
UID:BilTop/23
DESCRIPTION:Title: <a href="https://researchseminars.org/talk/BilTop/23/">
 Free Group Actions on Products of Two Equidimensional Spheres</a>\nby Ozgu
 n Unlu (Bilkent University) as part of Bilkent Topology Seminar\n\nLecture
  held in SB-Z11.\n\nAbstract\nWe will first review some known restrictions
  on finite groups that can act freely on products of two equidimensional s
 pheres.  Then we will discuss some constructions of free actions of finite
  p-groups on products of two equidimensional spheres. Finally\, we will di
 scuss some open problems about free $p$-group actions on two equidimension
 al spheres.\n
LOCATION:https://researchseminars.org/talk/BilTop/23/
END:VEVENT
END:VCALENDAR
