BEGIN:VCALENDAR
VERSION:2.0
PRODID:researchseminars.org
CALSCALE:GREGORIAN
X-WR-CALNAME:researchseminars.org
BEGIN:VEVENT
SUMMARY:Ergun Yalcin (Bilkent University)
DTSTART:20251006T123000Z
DTEND:20251006T133000Z
DTSTAMP:20260422T140101Z
UID:BilTop/120
DESCRIPTION:Title: <a href="https://researchseminars.org/talk/BilTop/120/"
 >Free Actions on Products of Real Projective Spaces</a>\nby Ergun Yalcin (
 Bilkent University) as part of Bilkent Topology Seminar\n\nLecture held in
  SA 141.\n\nAbstract\nWe recently proved the homotopy-theoretical version 
 of a conjecture\nby Cusick from 1983 on free actions of elementary abelian
  2-groups on products\nof real projective spaces. In this talk I will expl
 ain the main ideas of the proof after\nintroducing the necessary backgroun
 d.\n
LOCATION:https://researchseminars.org/talk/BilTop/120/
END:VEVENT
END:VCALENDAR
