BEGIN:VCALENDAR
VERSION:2.0
PRODID:researchseminars.org
CALSCALE:GREGORIAN
X-WR-CALNAME:researchseminars.org
BEGIN:VEVENT
SUMMARY:Ilker Kadri Berktav (Bilkent University)
DTSTART:20250317T103000Z
DTEND:20250317T113000Z
DTSTAMP:20260422T140237Z
UID:BilTop/104
DESCRIPTION:Title: <a href="https://researchseminars.org/talk/BilTop/104/"
 >Derived geometry II: Basics of infinity-categories-2</a>\nby Ilker Kadri 
 Berktav (Bilkent University) as part of Bilkent Topology Seminar\n\nLectur
 e held in SA 141.\n\nAbstract\nIn this talk\, we will continue discussing 
 infinity-categories\, focusing on the simplicial categorical description. 
 We will then study the infinity-category of commutative differential grade
 d algebras\, which will lead to the introduction of derived affine schemes
 .\n
LOCATION:https://researchseminars.org/talk/BilTop/104/
END:VEVENT
END:VCALENDAR
