BEGIN:VCALENDAR
VERSION:2.0
PRODID:researchseminars.org
CALSCALE:GREGORIAN
X-WR-CALNAME:researchseminars.org
BEGIN:VEVENT
SUMMARY:Emmanuel Kowalski
DTSTART:20211126T161500Z
DTEND:20211126T171500Z
DTSTAMP:20260423T005822Z
UID:BettyB/9
DESCRIPTION:Title: <a href="https://researchseminars.org/talk/BettyB/9/">L
 es graphes expanseurs</a>\nby Emmanuel Kowalski as part of Séminaire Bour
 baki (Vendredi)\n\nAbstract: TBA\n
LOCATION:https://researchseminars.org/talk/BettyB/9/
END:VEVENT
END:VCALENDAR
