BEGIN:VCALENDAR
VERSION:2.0
PRODID:researchseminars.org
CALSCALE:GREGORIAN
X-WR-CALNAME:researchseminars.org
BEGIN:VEVENT
SUMMARY:Franziska Jahnke
DTSTART:20211126T133000Z
DTEND:20211126T143000Z
DTSTAMP:20260423T022006Z
UID:BettyB/7
DESCRIPTION:Title: <a href="https://researchseminars.org/talk/BettyB/7/">D
 ividing lines in the model theory of fields</a>\nby Franziska Jahnke as pa
 rt of Séminaire Bourbaki (Vendredi)\n\nAbstract: TBA\n
LOCATION:https://researchseminars.org/talk/BettyB/7/
END:VEVENT
END:VCALENDAR
