BEGIN:VCALENDAR
VERSION:2.0
PRODID:researchseminars.org
CALSCALE:GREGORIAN
X-WR-CALNAME:researchseminars.org
BEGIN:VEVENT
SUMMARY:Alex Ghitza (University of Melbourne)
DTSTART:20210222T211500Z
DTEND:20210222T221500Z
DTSTAMP:20260423T035816Z
UID:BUNT/4
DESCRIPTION:Title: <a href="https://researchseminars.org/talk/BUNT/4/">Dif
 ferential operators on modular forms</a>\nby Alex Ghitza (University of Me
 lbourne) as part of Boston University Number Theory Seminar\n\nAbstract: T
 BA\n
LOCATION:https://researchseminars.org/talk/BUNT/4/
END:VEVENT
END:VCALENDAR
