BEGIN:VCALENDAR
VERSION:2.0
PRODID:researchseminars.org
CALSCALE:GREGORIAN
X-WR-CALNAME:researchseminars.org
BEGIN:VEVENT
SUMMARY:Álvaro Lozano-Robledo (UCONN)
DTSTART:20221205T213000Z
DTEND:20221205T223000Z
DTSTAMP:20260423T021427Z
UID:BUNT/22
DESCRIPTION:Title: <a href="https://researchseminars.org/talk/BUNT/22/">CA
 NCELLED: The adelic image of a Galois representation attached to a CM elli
 ptic curve</a>\nby Álvaro Lozano-Robledo (UCONN) as part of Boston Univer
 sity Number Theory Seminar\n\nLecture held in MCS B33.\nAbstract: TBA\n
LOCATION:https://researchseminars.org/talk/BUNT/22/
END:VEVENT
END:VCALENDAR
