BEGIN:VCALENDAR
VERSION:2.0
PRODID:researchseminars.org
CALSCALE:GREGORIAN
X-WR-CALNAME:researchseminars.org
BEGIN:VEVENT
SUMMARY:Tiago Fonseca (University of Oxford)
DTSTART:20200603T183000Z
DTEND:20200603T200000Z
DTSTAMP:20260423T004546Z
UID:BRAG/7
DESCRIPTION:Title: <a href="https://researchseminars.org/talk/BRAG/7/">Fro
 m transcendental numbers to higher Ramanujan foliations</a>\nby Tiago Fons
 eca (University of Oxford) as part of Brazilian algebraic geometry seminar
 \n\n\nAbstract\nI will explain how a problem in the theory of transcendent
 al numbers leads to the construction of certain principal bundles over mod
 uli stacks of abelian varieties. Such bundles carry a natural horizontal f
 oliation whose corresponding differential equations generalize Ramanujan's
  classical relations between Eisenstein series. I will then discuss a resu
 lt on the Zariski-density of the analytic leaves of this foliation.\n\nGoo
 gle meet link https://meet.google.com/wwv-sajj-fsn\n
LOCATION:https://researchseminars.org/talk/BRAG/7/
END:VEVENT
END:VCALENDAR
