BEGIN:VCALENDAR
VERSION:2.0
PRODID:researchseminars.org
CALSCALE:GREGORIAN
X-WR-CALNAME:researchseminars.org
BEGIN:VEVENT
SUMMARY:Frederico Quallbrunn (Universidad CAECE)
DTSTART:20210317T183000Z
DTEND:20210317T200000Z
DTSTAMP:20260423T021602Z
UID:BRAG/38
DESCRIPTION:Title: <a href="https://researchseminars.org/talk/BRAG/38/">Un
 foldings of Lie algebroids</a>\nby Frederico Quallbrunn (Universidad CAECE
 ) as part of Brazilian algebraic geometry seminar\n\n\nAbstract\nWe will t
 alk about the notion of unfolding\, first on\nfoliations\, and then genera
 lizing this concept to the case of Lie\nalgebroids. We will show some resu
 lts and examples appearing in a\njoint work with M.Corrêa and A.Molinuevo
 .\n
LOCATION:https://researchseminars.org/talk/BRAG/38/
END:VEVENT
END:VCALENDAR
