BEGIN:VCALENDAR
VERSION:2.0
PRODID:researchseminars.org
CALSCALE:GREGORIAN
X-WR-CALNAME:researchseminars.org
BEGIN:VEVENT
SUMMARY:Alan Muniz (UFF)
DTSTART:20200909T183000Z
DTEND:20200909T200000Z
DTSTAMP:20260423T021726Z
UID:BRAG/22
DESCRIPTION:Title: <a href="https://researchseminars.org/talk/BRAG/22/">On
  moduli spaces of rank two logarithmic connections over an elliptic curve.
 </a>\nby Alan Muniz (UFF) as part of Brazilian algebraic geometry seminar\
 n\n\nAbstract\nWe will give an explicit description of the (coarse) moduli
  space of rank two logarithmic connections with fixed spectral data over a
 n elliptic curve. Precisely\, we will show that this moduli space has a co
 vering whose members are easily described.\n\nJoint work with Thiago Fassa
 rella (UFF) and Frank Loray (IRMAR).\n
LOCATION:https://researchseminars.org/talk/BRAG/22/
END:VEVENT
END:VCALENDAR
