BEGIN:VCALENDAR
VERSION:2.0
PRODID:researchseminars.org
CALSCALE:GREGORIAN
X-WR-CALNAME:researchseminars.org
BEGIN:VEVENT
SUMMARY:Saeda Marello (Univ. Bonn\, Germany)
DTSTART:20211206T100000Z
DTEND:20211206T104500Z
DTSTAMP:20260421T173626Z
UID:BPS/43
DESCRIPTION:Title: <a href="https://researchseminars.org/talk/BPS/43/">Met
 astability for the Curie-Weiss model on inhomogeneous random graphs: resul
 ts and challenges</a>\nby Saeda Marello (Univ. Bonn\, Germany) as part of 
 Bangalore Probability Seminar\n\n\nAbstract\nWe are currently trying to ex
 tend to inhomogeneous random graphs the results on metastability for the C
 urie-Weiss model (CW) on the Erdős–Rényi random graph (namely the rand
 omly dilute CW)\, obtained by Anton Bovier\, Elena Pulvirenti and myself\,
  and presented in the previous talk.\n\nThe idea is the same: obtaining in
 formation on a target model in terms of the correspondent “mean model”
  quantities.\n\nAfter presenting few general results\, we will focus on a 
 particular case: the CW on the Chung-Lu inhomogeneous random graph and “
 its mean model”\, the so called “CW with disorder”. The latter model
  will be the core of the talk: we will present results\, techniques and co
 mparison with known models. This will allow us to see why many details can
  be obtained there and to point of the challenges we face in other models.
 \n\nWe use extensively the potential-theoretic approach to metastability.\
 n\nBased on ongoing joint work with Anton Bovier and Frank den Hollander.\
 n
LOCATION:https://researchseminars.org/talk/BPS/43/
END:VEVENT
END:VCALENDAR
