BEGIN:VCALENDAR
VERSION:2.0
PRODID:researchseminars.org
CALSCALE:GREGORIAN
X-WR-CALNAME:researchseminars.org
BEGIN:VEVENT
SUMMARY:Eleonora Di Nezza (École Polytechnique)
DTSTART:20210223T134500Z
DTEND:20210223T144500Z
DTSTAMP:20260423T024617Z
UID:BOWL/15
DESCRIPTION:Title: <a href="https://researchseminars.org/talk/BOWL/15/">Fa
 milies of Kähler-Einstein metrics</a>\nby Eleonora Di Nezza (École Polyt
 echnique) as part of B.O.W.L Geometry Seminar\n\n\nAbstract\nIn a lot of g
 eometric situation we need to work with families of varieties. In this tal
 k we focus on families of singular Kähler-Einstein metric. In particular 
 we study the case of a family of Kähler varieties and we develop the firs
 t steps of pluripotential theory in family\, which will allow us to have a
  control on the $C^0$ estimate when the complex structure varies. This typ
 e of result will be applied in different geometric contexts. This is a joi
 nt work with V. Guedj and H. Guenancia.\n
LOCATION:https://researchseminars.org/talk/BOWL/15/
END:VEVENT
END:VCALENDAR
