BEGIN:VCALENDAR
VERSION:2.0
PRODID:researchseminars.org
CALSCALE:GREGORIAN
X-WR-CALNAME:researchseminars.org
BEGIN:VEVENT
SUMMARY:Michał Bogdan (Dioscuri Centre in Topological Data Analysis)
DTSTART:20251103T113000Z
DTEND:20251103T133000Z
DTSTAMP:20260423T005717Z
UID:BNAT/6
DESCRIPTION:Title: <a href="https://researchseminars.org/talk/BNAT/6/">Lin
 ear Regression in Practice</a>\nby Michał Bogdan (Dioscuri Centre in Topo
 logical Data Analysis) as part of Basic Notions and Applied Topology Semin
 ar\n\nLecture held in Room 1 at the IMPAS\, Room 1.14 at the Institute of 
 Informatics (University of Gdańsk).\n\nAbstract\nThis will be a tutorial 
 rather than a talk\, and consider the second part of chapter 3 of "An Intr
 oduction to Statistical Learning with Applications in Python". We will dis
 cuss how to use linear regression in python and consider a couple of examp
 les.\n
LOCATION:https://researchseminars.org/talk/BNAT/6/
END:VEVENT
END:VCALENDAR
