BEGIN:VCALENDAR
VERSION:2.0
PRODID:researchseminars.org
CALSCALE:GREGORIAN
X-WR-CALNAME:researchseminars.org
BEGIN:VEVENT
SUMMARY:Michał Bogdan (Dioscuri Centre in Topological Data Analysis)
DTSTART:20251020T103000Z
DTEND:20251020T123000Z
DTSTAMP:20260423T004825Z
UID:BNAT/5
DESCRIPTION:Title: <a href="https://researchseminars.org/talk/BNAT/5/">Int
 roduction to the Theory of Linear Regression</a>\nby Michał Bogdan (Diosc
 uri Centre in Topological Data Analysis) as part of Basic Notions and Appl
 ied Topology Seminar\n\nLecture held in Room 1 at the Institute of Mathema
 tics PAS.\nAbstract: TBA\n
LOCATION:https://researchseminars.org/talk/BNAT/5/
END:VEVENT
END:VCALENDAR
