BEGIN:VCALENDAR
VERSION:2.0
PRODID:researchseminars.org
CALSCALE:GREGORIAN
X-WR-CALNAME:researchseminars.org
BEGIN:VEVENT
SUMMARY:Agnieszka Bodzenta (University of Warsaw)
DTSTART:20210601T110000Z
DTEND:20210601T114500Z
DTSTAMP:20260423T005836Z
UID:BMT20/4
DESCRIPTION:Title: <a href="https://researchseminars.org/talk/BMT20/4/">Ab
 elian envelopes of exact categories</a>\nby Agnieszka Bodzenta (University
  of Warsaw) as part of Braids\, mutations and twists in algebra and geomet
 ry\n\nAbstract: TBA\n
LOCATION:https://researchseminars.org/talk/BMT20/4/
END:VEVENT
END:VCALENDAR
