BEGIN:VCALENDAR
VERSION:2.0
PRODID:researchseminars.org
CALSCALE:GREGORIAN
X-WR-CALNAME:researchseminars.org
BEGIN:VEVENT
SUMMARY:James Pascaleff (University of Illinois)
DTSTART:20210608T130000Z
DTEND:20210608T134500Z
DTSTAMP:20260423T005816Z
UID:BMT20/16
DESCRIPTION:Title: <a href="https://researchseminars.org/talk/BMT20/16/">M
 oduli spaces of objects and wall-crossing for disk potentials</a>\nby Jame
 s Pascaleff (University of Illinois) as part of Braids\, mutations and twi
 sts in algebra and geometry\n\nAbstract: TBA\n
LOCATION:https://researchseminars.org/talk/BMT20/16/
END:VEVENT
END:VCALENDAR
