BEGIN:VCALENDAR
VERSION:2.0
PRODID:researchseminars.org
CALSCALE:GREGORIAN
X-WR-CALNAME:researchseminars.org
BEGIN:VEVENT
SUMMARY:Alastair King (University of Bath)
DTSTART:20210608T110000Z
DTEND:20210608T114500Z
DTSTAMP:20260423T005818Z
UID:BMT20/14
DESCRIPTION:Title: <a href="https://researchseminars.org/talk/BMT20/14/">C
 ategorification of the Marsh-Scott twist</a>\nby Alastair King (University
  of Bath) as part of Braids\, mutations and twists in algebra and geometry
 \n\nAbstract: TBA\n
LOCATION:https://researchseminars.org/talk/BMT20/14/
END:VEVENT
END:VCALENDAR
