BEGIN:VCALENDAR
VERSION:2.0
PRODID:researchseminars.org
CALSCALE:GREGORIAN
X-WR-CALNAME:researchseminars.org
BEGIN:VEVENT
SUMMARY:Putnam Club
DTSTART:20250929T170000Z
DTEND:20250929T180000Z
DTSTAMP:20260421T115002Z
UID:BC-Math/35
DESCRIPTION:Title: <a href="https://researchseminars.org/talk/BC-Math/35/"
 >Putnam Club meetings</a>\nby Putnam Club as part of Brooklyn College Math
  Department Events\n\nLecture held in 1146 Ingersoll.\n\nAbstract\nWe'll w
 ork on challenging math problems together! The purpose of the Putnam Club 
 is to develop students’ problem-solving skills and to prepare them for c
 ompetitions such as the Mathematics Department’s annual Prize Examinatio
 ns and the prestigious Putnam Competition.\n\n\nStudents with questions sh
 ould contact: David.Aulicino@brooklyn.cuny.edu\n
LOCATION:https://researchseminars.org/talk/BC-Math/35/
END:VEVENT
END:VCALENDAR
