BEGIN:VCALENDAR
VERSION:2.0
PRODID:researchseminars.org
CALSCALE:GREGORIAN
X-WR-CALNAME:researchseminars.org
BEGIN:VEVENT
SUMMARY:Andrew Will
DTSTART:20250424T163000Z
DTEND:20250424T180000Z
DTSTAMP:20260421T115047Z
UID:BC-Math/30
DESCRIPTION:Title: <a href="https://researchseminars.org/talk/BC-Math/30/"
 >A Winding Journey Through Mathematical Thought</a>\nby Andrew Will as par
 t of Brooklyn College Math Department Events\n\nLecture held in Ingersoll 
 1146.\n\nAbstract\nWe often hear about thinking mathematically\, but what 
 does this actually mean?\nIn this talk\, we will peer into the mathematica
 l toolkit by looking at a surprising proof of the Fundamental Theorem of A
 lgebra\, the result of which states that every nonzero polynomial has a nu
 mber of complex roots matching its degree.\nWe'll see how this proof full 
 of twists and turns employs three fundamental tools of mathematical though
 t: abstraction\, reduction\, and isomorphism.\n
LOCATION:https://researchseminars.org/talk/BC-Math/30/
END:VEVENT
END:VCALENDAR
