BEGIN:VCALENDAR
VERSION:2.0
PRODID:researchseminars.org
CALSCALE:GREGORIAN
X-WR-CALNAME:researchseminars.org
BEGIN:VEVENT
SUMMARY:Michael Bennett (University of British Columbia)
DTSTART:20240409T203000Z
DTEND:20240409T213000Z
DTSTAMP:20260419T151428Z
UID:BC-MIT/8
DESCRIPTION:Title: <a href="https://researchseminars.org/talk/BC-MIT/8/">A
 rithmetic progressions in sumsets of geometric progressions</a>\nby Michae
 l Bennett (University of British Columbia) as part of BC-MIT number theory
  seminar\n\nLecture held in Maloney 560 at Boston College.\n\nAbstract\nIf
  A and B are two geometric progressions\, we characterize all 3-term arith
 metic progressions in the sumset A+B. Somewhat surprisingly\, while mostly
  elementary\, this appears to require quite deep machinery from Diophantin
 e Approximation.\n
LOCATION:https://researchseminars.org/talk/BC-MIT/8/
END:VEVENT
END:VCALENDAR
