BEGIN:VCALENDAR
VERSION:2.0
PRODID:researchseminars.org
CALSCALE:GREGORIAN
X-WR-CALNAME:researchseminars.org
BEGIN:VEVENT
SUMMARY:Micha Sharir (Tel Aviv University)
DTSTART:20201016T120000Z
DTEND:20201016T140000Z
DTSTAMP:20260423T021127Z
UID:BBCG/5
DESCRIPTION:Title: <a href="https://researchseminars.org/talk/BBCG/5/">Eli
 minating depth cycles and its relatives</a>\nby Micha Sharir (Tel Aviv Uni
 versity) as part of Budapest Big Seminar on Combinatorics + Geometry\n\nAb
 stract: TBA\n
LOCATION:https://researchseminars.org/talk/BBCG/5/
END:VEVENT
END:VCALENDAR
