BEGIN:VCALENDAR
VERSION:2.0
PRODID:researchseminars.org
CALSCALE:GREGORIAN
X-WR-CALNAME:researchseminars.org
BEGIN:VEVENT
SUMMARY:Attila Pór (Western Kentucky University)
DTSTART:20211119T130000Z
DTEND:20211119T150000Z
DTSTAMP:20260423T052454Z
UID:BBCG/33
DESCRIPTION:Title: <a href="https://researchseminars.org/talk/BBCG/33/">Un
 iversal order type of lines/$k$-flats in $R^d$</a>\nby Attila Pór (Wester
 n Kentucky University) as part of Budapest Big Seminar on Combinatorics + 
 Geometry\n\nAbstract: TBA\n
LOCATION:https://researchseminars.org/talk/BBCG/33/
END:VEVENT
END:VCALENDAR
