BEGIN:VCALENDAR
VERSION:2.0
PRODID:researchseminars.org
CALSCALE:GREGORIAN
X-WR-CALNAME:researchseminars.org
BEGIN:VEVENT
SUMMARY:Madhu Sudan (Harvard University)
DTSTART:20210402T120000Z
DTEND:20210402T140000Z
DTSTAMP:20260423T035638Z
UID:BBCG/22
DESCRIPTION:Title: <a href="https://researchseminars.org/talk/BBCG/22/">(D
 eterministic) Communication Amid Uncertainty</a>\nby Madhu Sudan (Harvard 
 University) as part of Budapest Big Seminar on Combinatorics + Geometry\n\
 nAbstract: TBA\n
LOCATION:https://researchseminars.org/talk/BBCG/22/
END:VEVENT
END:VCALENDAR
