BEGIN:VCALENDAR
VERSION:2.0
PRODID:researchseminars.org
CALSCALE:GREGORIAN
X-WR-CALNAME:researchseminars.org
BEGIN:VEVENT
SUMMARY:Balázs Keszegh (Rényi Institute)
DTSTART:20210514T120000Z
DTEND:20210514T140000Z
DTSTAMP:20260423T052502Z
UID:BBCG/20
DESCRIPTION:Title: <a href="https://researchseminars.org/talk/BBCG/20/">On
  tangencies among planar curves</a>\nby Balázs Keszegh (Rényi Institute)
  as part of Budapest Big Seminar on Combinatorics + Geometry\n\nAbstract: 
 TBA\n
LOCATION:https://researchseminars.org/talk/BBCG/20/
END:VEVENT
END:VCALENDAR
