BEGIN:VCALENDAR
VERSION:2.0
PRODID:researchseminars.org
CALSCALE:GREGORIAN
X-WR-CALNAME:researchseminars.org
BEGIN:VEVENT
SUMMARY:Gábor Damásdi (MTA-ELTE CoGe\, Budapest)
DTSTART:20200925T120000Z
DTEND:20200925T140000Z
DTSTAMP:20260423T035533Z
UID:BBCG/2
DESCRIPTION:Title: <a href="https://researchseminars.org/talk/BBCG/2/">Odd
  wheels are not odd-distance graphs</a>\nby Gábor Damásdi (MTA-ELTE CoGe
 \, Budapest) as part of Budapest Big Seminar on Combinatorics + Geometry\n
 \nAbstract: TBA\n
LOCATION:https://researchseminars.org/talk/BBCG/2/
END:VEVENT
END:VCALENDAR
