BEGIN:VCALENDAR
VERSION:2.0
PRODID:researchseminars.org
CALSCALE:GREGORIAN
X-WR-CALNAME:researchseminars.org
BEGIN:VEVENT
SUMMARY:Brent Minchew (MIT)
DTSTART:20210622T130000Z
DTEND:20210622T140000Z
DTSTAMP:20260423T021253Z
UID:BASIDP/10
DESCRIPTION:Title: <a href="https://researchseminars.org/talk/BASIDP/10/">
 tbc</a>\nby Brent Minchew (MIT) as part of BAS Ice Dynamics and Paleoclima
 te Seminars\n\nAbstract: TBA\n
LOCATION:https://researchseminars.org/talk/BASIDP/10/
END:VEVENT
END:VCALENDAR
