BEGIN:VCALENDAR
VERSION:2.0
PRODID:researchseminars.org
CALSCALE:GREGORIAN
X-WR-CALNAME:researchseminars.org
BEGIN:VEVENT
SUMMARY:Joseph Conlon (Oxford U.)
DTSTART:20220316T151500Z
DTEND:20220316T161500Z
DTSTAMP:20260423T035528Z
UID:AnLy/8
DESCRIPTION:Title: <a href="https://researchseminars.org/talk/AnLy/8/">Hol
 ographic Questions About Moduli Stabilisation</a>\nby Joseph Conlon (Oxfor
 d U.) as part of AnLy Strings and Fields online seminars\n\n\nAbstract\nMo
 duli stabilisation is an important and fundamental question in string theo
 ry as it is a precursor to constructing semi-realistic string vacua. I des
 cribe work over the last few years aiming at examining moduli stabilised v
 acua from a holographic perspective\, studying in particular LVS in IIB an
 d DGKT in IIA. In scale separated limits of large volumes and weak couplin
 g\, the conformal dimensions of dual operators approach fixed values that 
 are independent of fluxes and many other microscopic aspects of the constr
 uctions. A further intriguing property is the existence of integer conform
 al dimensions for DGKT vacua\, although the origin of these integers is my
 sterious.\n
LOCATION:https://researchseminars.org/talk/AnLy/8/
END:VEVENT
END:VCALENDAR
