BEGIN:VCALENDAR
VERSION:2.0
PRODID:researchseminars.org
CALSCALE:GREGORIAN
X-WR-CALNAME:researchseminars.org
BEGIN:VEVENT
SUMMARY:Hynek Paul (KU Leuven)
DTSTART:20251112T150000Z
DTEND:20251112T160000Z
DTSTAMP:20260423T021154Z
UID:AnLy/60
DESCRIPTION:Title: <a href="https://researchseminars.org/talk/AnLy/60/">Co
 rrelation functions for non-conformal Dp-brane holography</a>\nby Hynek Pa
 ul (KU Leuven) as part of AnLy Strings and Fields online seminars\n\n\nAbs
 tract\nI will explain how we can study correlation functions of local oper
 ators in d-dimensional maximally supersymmetric Yang-Mills theories in the
  planar strongly-coupled limit via holography. The relevant supergravity b
 ackgrounds (obtained from the near-horizon limit of Dp-branes (with p=d-1)
  enjoy a scaling similarity\, giving rise to an auxiliary AdS space. This 
 allows us to derive simple rules analogous to Witten diagrams for the holo
 graphic calculation of correlation functions in these non-conformal setups
 . Using this framework\, I will then explain how to analytically compute t
 wo- and three-point correlators of scalar operators\, leading to new resul
 ts which could be tested using lattice QFT methods. Based on [2503.18770] 
 with Nikolay Bobev and Guillermo Mera Álvarez.\n
LOCATION:https://researchseminars.org/talk/AnLy/60/
END:VEVENT
END:VCALENDAR
