BEGIN:VCALENDAR
VERSION:2.0
PRODID:researchseminars.org
CALSCALE:GREGORIAN
X-WR-CALNAME:researchseminars.org
BEGIN:VEVENT
SUMMARY:Arthur Hebecker (University of Heidelberg)
DTSTART:20240515T140000Z
DTEND:20240515T150000Z
DTSTAMP:20260423T021136Z
UID:AnLy/42
DESCRIPTION:Title: <a href="https://researchseminars.org/talk/AnLy/42/">Lo
 op Blowup Inflation</a>\nby Arthur Hebecker (University of Heidelberg) as 
 part of AnLy Strings and Fields online seminars\n\n\nAbstract\nI will disc
 uss a new\, simple model of inflation in string theory. The role of the in
 flaton is played by a blowup modulus of a type IIB Calabi-Yau compactifica
 tion. I will start by recalling that\, in the Large Volume Scenario of mod
 uli stabilization\, such a modulus can remain unstabilized at leading orde
 r. This observation has given rise to the proposal of Blowup Inflation. Ho
 wever\, as I will explain\, loop corrections are generically present and t
 oo large to allow for slow roll. Our proposal employs this setting in a ne
 w regime\, where the value of the blowup modulus is much larger and slow-r
 oll can hence be realized. A detailed analysis\, based on the explicitly k
 nown form of loop corrections in this specific geometry\, reveals that obs
 ervational and consistency constraints can be met and interesting predicti
 ons for inflationary and late-time cosmological observables are possible.\
 n
LOCATION:https://researchseminars.org/talk/AnLy/42/
END:VEVENT
END:VCALENDAR
