BEGIN:VCALENDAR
VERSION:2.0
PRODID:researchseminars.org
CALSCALE:GREGORIAN
X-WR-CALNAME:researchseminars.org
BEGIN:VEVENT
SUMMARY:Lorenz Eberhardt (IAS\, Princeton)
DTSTART:20230531T140000Z
DTEND:20230531T150000Z
DTSTAMP:20260423T021130Z
UID:AnLy/26
DESCRIPTION:Title: <a href="https://researchseminars.org/talk/AnLy/26/">So
 lving 3d Gravity with Virasoro TQFT</a>\nby Lorenz Eberhardt (IAS\, Prince
 ton) as part of AnLy Strings and Fields online seminars\n\n\nAbstract\nI w
 ill explain a proposal which relates three-dimensional quantum gravity in 
 AdS3 to a particular 3d TQFT that we refer to as ``Virasoro TQFT''. This r
 elation gives a precise meaning to the standard folklore that pure 3d grav
 ity is related to two copies of SL(2\,R) Chern-Simons theory. I will discu
 ss that replacing SL(2\,R) Chern-Simons theory by Virasoro TQFT solves sev
 eral known problems in the correspondence. The relation provides a computa
 tionally useful tool to study partition functions of 3d gravity. The talk 
 is based o\n
LOCATION:https://researchseminars.org/talk/AnLy/26/
END:VEVENT
END:VCALENDAR
